BEGIN:VCALENDAR
VERSION:2.0
PRODID:-//wp-events-plugin.com//6.6.4.4//EN
TZID:Europe/Vienna
X-WR-TIMEZONE:Europe/Vienna
BEGIN:VEVENT
UID:58@staged2.pixelweise.xyz
DTSTART;TZID=Europe/Vienna:20251002T180000
DTEND;TZID=Europe/Vienna:20251002T193000
DTSTAMP:20250703T054918Z
URL:http://staged2.pixelweise.xyz/events/fit-fun-2025-10-02/
SUMMARY:Fit & Fun
DESCRIPTION:
CATEGORIES:Fit&amp;Fun
LOCATION:Turnsaal des BRG Krems\, Rechte Kremszeile 54\, 3500 Krems an der 
 Donau\, Österreich
X-APPLE-STRUCTURED-LOCATION;VALUE=URI;X-ADDRESS=Rechte Kremszeile 54\, 3500
  Krems an der Donau\, Österreich;X-APPLE-RADIUS=100;X-TITLE=Turnsaal des 
 BRG Krems:geo:0,0
END:VEVENT
BEGIN:VTIMEZONE
TZID:Europe/Vienna
X-LIC-LOCATION:Europe/Vienna
BEGIN:DAYLIGHT
DTSTART:20250330T030000
TZOFFSETFROM:+0100
TZOFFSETTO:+0200
TZNAME:CEST
END:DAYLIGHT
END:VTIMEZONE
END:VCALENDAR