BEGIN:VCALENDAR
VERSION:2.0
PRODID:-//wp-events-plugin.com//6.6.4.4//EN
TZID:Europe/Vienna
X-WR-TIMEZONE:Europe/Vienna
BEGIN:VEVENT
UID:142@staged2.pixelweise.xyz
DTSTART;TZID=Europe/Vienna:20250916T190000
DTEND;TZID=Europe/Vienna:20250916T210000
DTSTAMP:20250703T060132Z
URL:http://staged2.pixelweise.xyz/events/go-japanisches-brettspiel-2025-09
 -16/
SUMMARY:Go - japanisches Brettspiel
DESCRIPTION:
CATEGORIES:GO
LOCATION:Volkshaus Krems\, Hofrat-Erben-Straße 1\, 3500 Krems an der Donau
 \, Österreich
X-APPLE-STRUCTURED-LOCATION;VALUE=URI;X-ADDRESS=Hofrat-Erben-Straße 1\, 35
 00 Krems an der Donau\, Österreich;X-APPLE-RADIUS=100;X-TITLE=Volkshaus K
 rems:geo:0,0
END:VEVENT
BEGIN:VTIMEZONE
TZID:Europe/Vienna
X-LIC-LOCATION:Europe/Vienna
BEGIN:DAYLIGHT
DTSTART:20250330T030000
TZOFFSETFROM:+0100
TZOFFSETTO:+0200
TZNAME:CEST
END:DAYLIGHT
END:VTIMEZONE
END:VCALENDAR