BEGIN:VCALENDAR
VERSION:2.0
PRODID:-//wp-events-plugin.com//6.6.4.4//EN
TZID:Europe/Vienna
X-WR-TIMEZONE:Europe/Vienna
BEGIN:VEVENT
UID:42@staged2.pixelweise.xyz
DTSTART;TZID=Europe/Vienna:20250910T193000
DTEND;TZID=Europe/Vienna:20250910T213000
DTSTAMP:20250703T054624Z
URL:http://staged2.pixelweise.xyz/events/tanz-und-chorprobe-2025-09-10/
SUMMARY:Tanz- und Chorprobe
DESCRIPTION:
CATEGORIES:Chor- und VTG
LOCATION:Probenraum\, Lerchenfelder Hauptplatz 2\, 3500 Krems an der Donau\
 , Österreich
X-APPLE-STRUCTURED-LOCATION;VALUE=URI;X-ADDRESS=Lerchenfelder Hauptplatz 2\
 , 3500 Krems an der Donau\, Österreich;X-APPLE-RADIUS=100;X-TITLE=Probenr
 aum:geo:0,0
END:VEVENT
BEGIN:VTIMEZONE
TZID:Europe/Vienna
X-LIC-LOCATION:Europe/Vienna
BEGIN:DAYLIGHT
DTSTART:20250330T030000
TZOFFSETFROM:+0100
TZOFFSETTO:+0200
TZNAME:CEST
END:DAYLIGHT
END:VTIMEZONE
END:VCALENDAR