BEGIN:VCALENDAR
VERSION:2.0
PRODID:-//wp-events-plugin.com//6.6.4.4//EN
TZID:Europe/Vienna
X-WR-TIMEZONE:Europe/Vienna
BEGIN:VEVENT
UID:473@staged2.pixelweise.xyz
DTSTART;TZID=Europe/Vienna:20260226T193000
DTEND;TZID=Europe/Vienna:20260226T213000
DTSTAMP:20250703T062054Z
URL:http://staged2.pixelweise.xyz/events/werkskapelle-2026-02-26/
SUMMARY:Werkskapelle
DESCRIPTION:
CATEGORIES:Werkskapelle
LOCATION:Volkshaus Lerchenfeld\, Hofrat-Erben-Straße 1\, 3500 Krems an der
  Donau\, Österreich
X-APPLE-STRUCTURED-LOCATION;VALUE=URI;X-ADDRESS=Hofrat-Erben-Straße 1\, 35
 00 Krems an der Donau\, Österreich;X-APPLE-RADIUS=100;X-TITLE=Volkshaus L
 erchenfeld:geo:0,0
END:VEVENT
BEGIN:VTIMEZONE
TZID:Europe/Vienna
X-LIC-LOCATION:Europe/Vienna
BEGIN:STANDARD
DTSTART:20251026T020000
TZOFFSETFROM:+0200
TZOFFSETTO:+0100
TZNAME:CET
END:STANDARD
END:VTIMEZONE
END:VCALENDAR