BEGIN:VCALENDAR
VERSION:2.0
PRODID:-//wp-events-plugin.com//6.6.4.4//EN
TZID:Europe/Vienna
X-WR-TIMEZONE:Europe/Vienna
BEGIN:VEVENT
UID:5@staged2.pixelweise.xyz
DTSTART;TZID=Europe/Vienna;VALUE=DATE:20250606
DTEND;TZID=Europe/Vienna;VALUE=DATE:20250607
DTSTAMP:20250606T084238Z
URL:http://staged2.pixelweise.xyz/events/padel-tennis/
SUMMARY:Padel Tennis
DESCRIPTION:asdf
CATEGORIES:Padel Tennis
END:VEVENT
BEGIN:VEVENT
UID:1@staged2.pixelweise.xyz
DTSTART;TZID=Europe/Vienna;VALUE=DATE:20250606
DTEND;TZID=Europe/Vienna;VALUE=DATE:20250609
DTSTAMP:20250606T073510Z
URL:http://staged2.pixelweise.xyz/events/sommercup/
SUMMARY:Sommercup
DESCRIPTION:Hier kommt die Beschreibung
CATEGORIES:Tennis
END:VEVENT
BEGIN:VEVENT
UID:2@staged2.pixelweise.xyz
DTSTART;TZID=Europe/Vienna:20250606T111500
DTEND;TZID=Europe/Vienna:20250606T201500
DTSTAMP:20250606T073548Z
URL:http://staged2.pixelweise.xyz/events/schachturnier/
SUMMARY:Schachturnier
DESCRIPTION:Beschreibung
CATEGORIES:Fit&amp;Fun
END:VEVENT
BEGIN:VEVENT
UID:3@staged2.pixelweise.xyz
DTSTART;TZID=Europe/Vienna;VALUE=DATE:20250607
DTEND;TZID=Europe/Vienna;VALUE=DATE:20250609
DTSTAMP:20250606T080729Z
URL:http://staged2.pixelweise.xyz/events/snow/
SUMMARY:Snow
DESCRIPTION:Snowevent
CATEGORIES:Snow
END:VEVENT
BEGIN:VEVENT
UID:4@staged2.pixelweise.xyz
DTSTART;TZID=Europe/Vienna:20250610T130000
DTEND;TZID=Europe/Vienna:20250610T160000
DTSTAMP:20250606T084637Z
URL:http://staged2.pixelweise.xyz/events/tennisturnier-mitterau/
SUMMARY:Tennisturnier Mitterau
DESCRIPTION:Beschreibung
CATEGORIES:Tennis
END:VEVENT
BEGIN:VEVENT
UID:6@staged2.pixelweise.xyz
DTSTART;TZID=Europe/Vienna;VALUE=DATE:20250611
DTEND;TZID=Europe/Vienna;VALUE=DATE:20250612
DTSTAMP:20250606T091554Z
URL:http://staged2.pixelweise.xyz/events/testveranstaltung/
SUMMARY:Testveranstaltung
DESCRIPTION:asdf
CATEGORIES:Chor- und VTG
END:VEVENT
BEGIN:VEVENT
UID:204@staged2.pixelweise.xyz
DTSTART;TZID=Europe/Vienna:20250701T170000
DTEND;TZID=Europe/Vienna:20250701T190000
DTSTAMP:20250703T060822Z
URL:http://staged2.pixelweise.xyz/events/stocksport-training-2025-07-01/
SUMMARY:Stocksport-Training
DESCRIPTION:
CATEGORIES:Stocksport
LOCATION:Stocksporthalle\, Schmidhüttenstraße 5\, 3500 Krems an der Donau
 \, Österreich
X-APPLE-STRUCTURED-LOCATION;VALUE=URI;X-ADDRESS=Schmidhüttenstraße 5\, 35
 00 Krems an der Donau\, Österreich;X-APPLE-RADIUS=100;X-TITLE=Stocksporth
 alle:geo:0,0
END:VEVENT
BEGIN:VEVENT
UID:131@staged2.pixelweise.xyz
DTSTART;TZID=Europe/Vienna:20250701T190000
DTEND;TZID=Europe/Vienna:20250701T210000
DTSTAMP:20250703T060132Z
URL:http://staged2.pixelweise.xyz/events/go-japanisches-brettspiel-2025-07
 -01/
SUMMARY:Go - japanisches Brettspiel
DESCRIPTION:
CATEGORIES:GO
LOCATION:Volkshaus Krems\, Hofrat-Erben-Straße 1\, 3500 Krems an der Donau
 \, Österreich
X-APPLE-STRUCTURED-LOCATION;VALUE=URI;X-ADDRESS=Hofrat-Erben-Straße 1\, 35
 00 Krems an der Donau\, Österreich;X-APPLE-RADIUS=100;X-TITLE=Volkshaus K
 rems:geo:0,0
END:VEVENT
BEGIN:VEVENT
UID:205@staged2.pixelweise.xyz
DTSTART;TZID=Europe/Vienna:20250703T170000
DTEND;TZID=Europe/Vienna:20250703T190000
DTSTAMP:20250703T060822Z
URL:http://staged2.pixelweise.xyz/events/stocksport-training-2025-07-03/
SUMMARY:Stocksport-Training
DESCRIPTION:
CATEGORIES:Stocksport
LOCATION:Stocksporthalle\, Schmidhüttenstraße 5\, 3500 Krems an der Donau
 \, Österreich
X-APPLE-STRUCTURED-LOCATION;VALUE=URI;X-ADDRESS=Schmidhüttenstraße 5\, 35
 00 Krems an der Donau\, Österreich;X-APPLE-RADIUS=100;X-TITLE=Stocksporth
 alle:geo:0,0
END:VEVENT
BEGIN:VEVENT
UID:439@staged2.pixelweise.xyz
DTSTART;TZID=Europe/Vienna:20250703T193000
DTEND;TZID=Europe/Vienna:20250703T213000
DTSTAMP:20250703T062054Z
URL:http://staged2.pixelweise.xyz/events/werkskapelle-2025-07-03/
SUMMARY:Werkskapelle
DESCRIPTION:
CATEGORIES:Werkskapelle
LOCATION:Volkshaus Lerchenfeld\, Hofrat-Erben-Straße 1\, 3500 Krems an der
  Donau\, Österreich
X-APPLE-STRUCTURED-LOCATION;VALUE=URI;X-ADDRESS=Hofrat-Erben-Straße 1\, 35
 00 Krems an der Donau\, Österreich;X-APPLE-RADIUS=100;X-TITLE=Volkshaus L
 erchenfeld:geo:0,0
END:VEVENT
BEGIN:VEVENT
UID:319@staged2.pixelweise.xyz
DTSTART;TZID=Europe/Vienna:20250704T160000
DTEND;TZID=Europe/Vienna:20250704T170000
DTSTAMP:20250703T061233Z
URL:http://staged2.pixelweise.xyz/events/tennis-kindertraining-2025-07-04/
SUMMARY:Tennis / Kindertraining
DESCRIPTION:
CATEGORIES:Tennis
LOCATION:WSV Tennisplatz\, Admonterstrasse\, 3500 Krems an der Donau\, Öst
 erreich
X-APPLE-STRUCTURED-LOCATION;VALUE=URI;X-ADDRESS=Admonterstrasse\, 3500 Krem
 s an der Donau\, Österreich;X-APPLE-RADIUS=100;X-TITLE=WSV Tennisplatz:ge
 o:0,0
END:VEVENT
BEGIN:VEVENT
UID:377@staged2.pixelweise.xyz
DTSTART;TZID=Europe/Vienna:20250704T170000
DTEND;TZID=Europe/Vienna:20250704T183000
DTSTAMP:20250703T061413Z
URL:http://staged2.pixelweise.xyz/events/tennis-allgemeines-training-2025-
 07-04/
SUMMARY:Tennis - Allgemeines Training
DESCRIPTION:Anfänger: 17:00 - 17:45 Uhr\nFortgeschrittene: 17:45 - 18:30 U
 hr
CATEGORIES:Tennis
LOCATION:WSV Tennisplatz\, Admonterstrasse\, 3500 Krems an der Donau\, Öst
 erreich
X-APPLE-STRUCTURED-LOCATION;VALUE=URI;X-ADDRESS=Admonterstrasse\, 3500 Krem
 s an der Donau\, Österreich;X-APPLE-RADIUS=100;X-TITLE=WSV Tennisplatz:ge
 o:0,0
END:VEVENT
BEGIN:VEVENT
UID:436@staged2.pixelweise.xyz
DTSTART;TZID=Europe/Vienna:20250705T100000
DTEND;TZID=Europe/Vienna:20250705T120000
DTSTAMP:20250703T061812Z
URL:http://staged2.pixelweise.xyz/events/alles-marille-werkskapelle/
SUMMARY:Alles Marille | Werkskapelle
DESCRIPTION:Frühshoppen
CATEGORIES:Werkskapelle
LOCATION:Alles Marille\, Fußgängerzone\, 3500 Krems an der Donau\, Öster
 reich
X-APPLE-STRUCTURED-LOCATION;VALUE=URI;X-ADDRESS=Fußgängerzone\, 3500 Krem
 s an der Donau\, Österreich;X-APPLE-RADIUS=100;X-TITLE=Alles Marille:geo:
 0,0
END:VEVENT
BEGIN:VEVENT
UID:497@staged2.pixelweise.xyz
DTSTART;TZID=Europe/Vienna:20250706T140000
DTEND;TZID=Europe/Vienna:20250706T150000
DTSTAMP:20250703T062359Z
URL:http://staged2.pixelweise.xyz/events/alles-marille-chor-und-volkstanzg
 ruppe/
SUMMARY:Alles Marille - Chor- und Volkstanzgruppe
DESCRIPTION:
CATEGORIES:Chor- und VTG
LOCATION:Alles Marille\, Fußgängerzone\, 3500 Krems an der Donau\, Öster
 reich
X-APPLE-STRUCTURED-LOCATION;VALUE=URI;X-ADDRESS=Fußgängerzone\, 3500 Krem
 s an der Donau\, Österreich;X-APPLE-RADIUS=100;X-TITLE=Alles Marille:geo:
 0,0
END:VEVENT
BEGIN:VEVENT
UID:206@staged2.pixelweise.xyz
DTSTART;TZID=Europe/Vienna:20250708T170000
DTEND;TZID=Europe/Vienna:20250708T190000
DTSTAMP:20250703T060822Z
URL:http://staged2.pixelweise.xyz/events/stocksport-training-2025-07-08/
SUMMARY:Stocksport-Training
DESCRIPTION:
CATEGORIES:Stocksport
LOCATION:Stocksporthalle\, Schmidhüttenstraße 5\, 3500 Krems an der Donau
 \, Österreich
X-APPLE-STRUCTURED-LOCATION;VALUE=URI;X-ADDRESS=Schmidhüttenstraße 5\, 35
 00 Krems an der Donau\, Österreich;X-APPLE-RADIUS=100;X-TITLE=Stocksporth
 alle:geo:0,0
END:VEVENT
BEGIN:VEVENT
UID:207@staged2.pixelweise.xyz
DTSTART;TZID=Europe/Vienna:20250710T170000
DTEND;TZID=Europe/Vienna:20250710T190000
DTSTAMP:20250703T060822Z
URL:http://staged2.pixelweise.xyz/events/stocksport-training-2025-07-10/
SUMMARY:Stocksport-Training
DESCRIPTION:
CATEGORIES:Stocksport
LOCATION:Stocksporthalle\, Schmidhüttenstraße 5\, 3500 Krems an der Donau
 \, Österreich
X-APPLE-STRUCTURED-LOCATION;VALUE=URI;X-ADDRESS=Schmidhüttenstraße 5\, 35
 00 Krems an der Donau\, Österreich;X-APPLE-RADIUS=100;X-TITLE=Stocksporth
 alle:geo:0,0
END:VEVENT
BEGIN:VEVENT
UID:440@staged2.pixelweise.xyz
DTSTART;TZID=Europe/Vienna:20250710T193000
DTEND;TZID=Europe/Vienna:20250710T213000
DTSTAMP:20250703T062054Z
URL:http://staged2.pixelweise.xyz/events/werkskapelle-2025-07-10/
SUMMARY:Werkskapelle
DESCRIPTION:
CATEGORIES:Werkskapelle
LOCATION:Volkshaus Lerchenfeld\, Hofrat-Erben-Straße 1\, 3500 Krems an der
  Donau\, Österreich
X-APPLE-STRUCTURED-LOCATION;VALUE=URI;X-ADDRESS=Hofrat-Erben-Straße 1\, 35
 00 Krems an der Donau\, Österreich;X-APPLE-RADIUS=100;X-TITLE=Volkshaus L
 erchenfeld:geo:0,0
END:VEVENT
BEGIN:VEVENT
UID:320@staged2.pixelweise.xyz
DTSTART;TZID=Europe/Vienna:20250711T160000
DTEND;TZID=Europe/Vienna:20250711T170000
DTSTAMP:20250703T061233Z
URL:http://staged2.pixelweise.xyz/events/tennis-kindertraining-2025-07-11/
SUMMARY:Tennis / Kindertraining
DESCRIPTION:
CATEGORIES:Tennis
LOCATION:WSV Tennisplatz\, Admonterstrasse\, 3500 Krems an der Donau\, Öst
 erreich
X-APPLE-STRUCTURED-LOCATION;VALUE=URI;X-ADDRESS=Admonterstrasse\, 3500 Krem
 s an der Donau\, Österreich;X-APPLE-RADIUS=100;X-TITLE=WSV Tennisplatz:ge
 o:0,0
END:VEVENT
BEGIN:VEVENT
UID:378@staged2.pixelweise.xyz
DTSTART;TZID=Europe/Vienna:20250711T170000
DTEND;TZID=Europe/Vienna:20250711T183000
DTSTAMP:20250703T061413Z
URL:http://staged2.pixelweise.xyz/events/tennis-allgemeines-training-2025-
 07-11/
SUMMARY:Tennis - Allgemeines Training
DESCRIPTION:Anfänger: 17:00 - 17:45 Uhr\nFortgeschrittene: 17:45 - 18:30 U
 hr
CATEGORIES:Tennis
LOCATION:WSV Tennisplatz\, Admonterstrasse\, 3500 Krems an der Donau\, Öst
 erreich
X-APPLE-STRUCTURED-LOCATION;VALUE=URI;X-ADDRESS=Admonterstrasse\, 3500 Krem
 s an der Donau\, Österreich;X-APPLE-RADIUS=100;X-TITLE=WSV Tennisplatz:ge
 o:0,0
END:VEVENT
BEGIN:VEVENT
UID:496@staged2.pixelweise.xyz
DTSTART;TZID=Europe/Vienna:20250713T090000
DTEND;TZID=Europe/Vienna:20250713T120000
DTSTAMP:20250703T062230Z
URL:http://staged2.pixelweise.xyz/events/goldhaubensonntag/
SUMMARY:Goldhaubensonntag
DESCRIPTION:
CATEGORIES:Chor- und VTG
LOCATION:Stift Melk\,  Abt-Berthold-Dietmayr-Straße 1\, 3390 Melk\, Öster
 reich
X-APPLE-STRUCTURED-LOCATION;VALUE=URI;X-ADDRESS= Abt-Berthold-Dietmayr-Stra
 ße 1\, 3390 Melk\, Österreich;X-APPLE-RADIUS=100;X-TITLE=Stift Melk:geo:
 0,0
END:VEVENT
BEGIN:VEVENT
UID:208@staged2.pixelweise.xyz
DTSTART;TZID=Europe/Vienna:20250715T170000
DTEND;TZID=Europe/Vienna:20250715T190000
DTSTAMP:20250703T060822Z
URL:http://staged2.pixelweise.xyz/events/stocksport-training-2025-07-15/
SUMMARY:Stocksport-Training
DESCRIPTION:
CATEGORIES:Stocksport
LOCATION:Stocksporthalle\, Schmidhüttenstraße 5\, 3500 Krems an der Donau
 \, Österreich
X-APPLE-STRUCTURED-LOCATION;VALUE=URI;X-ADDRESS=Schmidhüttenstraße 5\, 35
 00 Krems an der Donau\, Österreich;X-APPLE-RADIUS=100;X-TITLE=Stocksporth
 alle:geo:0,0
END:VEVENT
BEGIN:VEVENT
UID:133@staged2.pixelweise.xyz
DTSTART;TZID=Europe/Vienna:20250715T190000
DTEND;TZID=Europe/Vienna:20250715T210000
DTSTAMP:20250703T060132Z
URL:http://staged2.pixelweise.xyz/events/go-japanisches-brettspiel-2025-07
 -15/
SUMMARY:Go - japanisches Brettspiel
DESCRIPTION:
CATEGORIES:GO
LOCATION:Volkshaus Krems\, Hofrat-Erben-Straße 1\, 3500 Krems an der Donau
 \, Österreich
X-APPLE-STRUCTURED-LOCATION;VALUE=URI;X-ADDRESS=Hofrat-Erben-Straße 1\, 35
 00 Krems an der Donau\, Österreich;X-APPLE-RADIUS=100;X-TITLE=Volkshaus K
 rems:geo:0,0
END:VEVENT
BEGIN:VEVENT
UID:209@staged2.pixelweise.xyz
DTSTART;TZID=Europe/Vienna:20250717T170000
DTEND;TZID=Europe/Vienna:20250717T190000
DTSTAMP:20250703T060822Z
URL:http://staged2.pixelweise.xyz/events/stocksport-training-2025-07-17/
SUMMARY:Stocksport-Training
DESCRIPTION:
CATEGORIES:Stocksport
LOCATION:Stocksporthalle\, Schmidhüttenstraße 5\, 3500 Krems an der Donau
 \, Österreich
X-APPLE-STRUCTURED-LOCATION;VALUE=URI;X-ADDRESS=Schmidhüttenstraße 5\, 35
 00 Krems an der Donau\, Österreich;X-APPLE-RADIUS=100;X-TITLE=Stocksporth
 alle:geo:0,0
END:VEVENT
BEGIN:VEVENT
UID:441@staged2.pixelweise.xyz
DTSTART;TZID=Europe/Vienna:20250717T193000
DTEND;TZID=Europe/Vienna:20250717T213000
DTSTAMP:20250703T062054Z
URL:http://staged2.pixelweise.xyz/events/werkskapelle-2025-07-17/
SUMMARY:Werkskapelle
DESCRIPTION:
CATEGORIES:Werkskapelle
LOCATION:Volkshaus Lerchenfeld\, Hofrat-Erben-Straße 1\, 3500 Krems an der
  Donau\, Österreich
X-APPLE-STRUCTURED-LOCATION;VALUE=URI;X-ADDRESS=Hofrat-Erben-Straße 1\, 35
 00 Krems an der Donau\, Österreich;X-APPLE-RADIUS=100;X-TITLE=Volkshaus L
 erchenfeld:geo:0,0
END:VEVENT
BEGIN:VEVENT
UID:321@staged2.pixelweise.xyz
DTSTART;TZID=Europe/Vienna:20250718T160000
DTEND;TZID=Europe/Vienna:20250718T170000
DTSTAMP:20250703T061233Z
URL:http://staged2.pixelweise.xyz/events/tennis-kindertraining-2025-07-18/
SUMMARY:Tennis / Kindertraining
DESCRIPTION:
CATEGORIES:Tennis
LOCATION:WSV Tennisplatz\, Admonterstrasse\, 3500 Krems an der Donau\, Öst
 erreich
X-APPLE-STRUCTURED-LOCATION;VALUE=URI;X-ADDRESS=Admonterstrasse\, 3500 Krem
 s an der Donau\, Österreich;X-APPLE-RADIUS=100;X-TITLE=WSV Tennisplatz:ge
 o:0,0
END:VEVENT
BEGIN:VEVENT
UID:379@staged2.pixelweise.xyz
DTSTART;TZID=Europe/Vienna:20250718T170000
DTEND;TZID=Europe/Vienna:20250718T183000
DTSTAMP:20250703T061413Z
URL:http://staged2.pixelweise.xyz/events/tennis-allgemeines-training-2025-
 07-18/
SUMMARY:Tennis - Allgemeines Training
DESCRIPTION:Anfänger: 17:00 - 17:45 Uhr\nFortgeschrittene: 17:45 - 18:30 U
 hr
CATEGORIES:Tennis
LOCATION:WSV Tennisplatz\, Admonterstrasse\, 3500 Krems an der Donau\, Öst
 erreich
X-APPLE-STRUCTURED-LOCATION;VALUE=URI;X-ADDRESS=Admonterstrasse\, 3500 Krem
 s an der Donau\, Österreich;X-APPLE-RADIUS=100;X-TITLE=WSV Tennisplatz:ge
 o:0,0
END:VEVENT
BEGIN:VEVENT
UID:210@staged2.pixelweise.xyz
DTSTART;TZID=Europe/Vienna:20250722T170000
DTEND;TZID=Europe/Vienna:20250722T190000
DTSTAMP:20250703T060822Z
URL:http://staged2.pixelweise.xyz/events/stocksport-training-2025-07-22/
SUMMARY:Stocksport-Training
DESCRIPTION:
CATEGORIES:Stocksport
LOCATION:Stocksporthalle\, Schmidhüttenstraße 5\, 3500 Krems an der Donau
 \, Österreich
X-APPLE-STRUCTURED-LOCATION;VALUE=URI;X-ADDRESS=Schmidhüttenstraße 5\, 35
 00 Krems an der Donau\, Österreich;X-APPLE-RADIUS=100;X-TITLE=Stocksporth
 alle:geo:0,0
END:VEVENT
BEGIN:VEVENT
UID:211@staged2.pixelweise.xyz
DTSTART;TZID=Europe/Vienna:20250724T170000
DTEND;TZID=Europe/Vienna:20250724T190000
DTSTAMP:20250703T060822Z
URL:http://staged2.pixelweise.xyz/events/stocksport-training-2025-07-24/
SUMMARY:Stocksport-Training
DESCRIPTION:
CATEGORIES:Stocksport
LOCATION:Stocksporthalle\, Schmidhüttenstraße 5\, 3500 Krems an der Donau
 \, Österreich
X-APPLE-STRUCTURED-LOCATION;VALUE=URI;X-ADDRESS=Schmidhüttenstraße 5\, 35
 00 Krems an der Donau\, Österreich;X-APPLE-RADIUS=100;X-TITLE=Stocksporth
 alle:geo:0,0
END:VEVENT
BEGIN:VEVENT
UID:442@staged2.pixelweise.xyz
DTSTART;TZID=Europe/Vienna:20250724T193000
DTEND;TZID=Europe/Vienna:20250724T213000
DTSTAMP:20250703T062054Z
URL:http://staged2.pixelweise.xyz/events/werkskapelle-2025-07-24/
SUMMARY:Werkskapelle
DESCRIPTION:
CATEGORIES:Werkskapelle
LOCATION:Volkshaus Lerchenfeld\, Hofrat-Erben-Straße 1\, 3500 Krems an der
  Donau\, Österreich
X-APPLE-STRUCTURED-LOCATION;VALUE=URI;X-ADDRESS=Hofrat-Erben-Straße 1\, 35
 00 Krems an der Donau\, Österreich;X-APPLE-RADIUS=100;X-TITLE=Volkshaus L
 erchenfeld:geo:0,0
END:VEVENT
BEGIN:VEVENT
UID:322@staged2.pixelweise.xyz
DTSTART;TZID=Europe/Vienna:20250725T160000
DTEND;TZID=Europe/Vienna:20250725T170000
DTSTAMP:20250703T061233Z
URL:http://staged2.pixelweise.xyz/events/tennis-kindertraining-2025-07-25/
SUMMARY:Tennis / Kindertraining
DESCRIPTION:
CATEGORIES:Tennis
LOCATION:WSV Tennisplatz\, Admonterstrasse\, 3500 Krems an der Donau\, Öst
 erreich
X-APPLE-STRUCTURED-LOCATION;VALUE=URI;X-ADDRESS=Admonterstrasse\, 3500 Krem
 s an der Donau\, Österreich;X-APPLE-RADIUS=100;X-TITLE=WSV Tennisplatz:ge
 o:0,0
END:VEVENT
BEGIN:VEVENT
UID:380@staged2.pixelweise.xyz
DTSTART;TZID=Europe/Vienna:20250725T170000
DTEND;TZID=Europe/Vienna:20250725T183000
DTSTAMP:20250703T061413Z
URL:http://staged2.pixelweise.xyz/events/tennis-allgemeines-training-2025-
 07-25/
SUMMARY:Tennis - Allgemeines Training
DESCRIPTION:Anfänger: 17:00 - 17:45 Uhr\nFortgeschrittene: 17:45 - 18:30 U
 hr
CATEGORIES:Tennis
LOCATION:WSV Tennisplatz\, Admonterstrasse\, 3500 Krems an der Donau\, Öst
 erreich
X-APPLE-STRUCTURED-LOCATION;VALUE=URI;X-ADDRESS=Admonterstrasse\, 3500 Krem
 s an der Donau\, Österreich;X-APPLE-RADIUS=100;X-TITLE=WSV Tennisplatz:ge
 o:0,0
END:VEVENT
BEGIN:VEVENT
UID:212@staged2.pixelweise.xyz
DTSTART;TZID=Europe/Vienna:20250729T170000
DTEND;TZID=Europe/Vienna:20250729T190000
DTSTAMP:20250703T060822Z
URL:http://staged2.pixelweise.xyz/events/stocksport-training-2025-07-29/
SUMMARY:Stocksport-Training
DESCRIPTION:
CATEGORIES:Stocksport
LOCATION:Stocksporthalle\, Schmidhüttenstraße 5\, 3500 Krems an der Donau
 \, Österreich
X-APPLE-STRUCTURED-LOCATION;VALUE=URI;X-ADDRESS=Schmidhüttenstraße 5\, 35
 00 Krems an der Donau\, Österreich;X-APPLE-RADIUS=100;X-TITLE=Stocksporth
 alle:geo:0,0
END:VEVENT
BEGIN:VEVENT
UID:213@staged2.pixelweise.xyz
DTSTART;TZID=Europe/Vienna:20250731T170000
DTEND;TZID=Europe/Vienna:20250731T190000
DTSTAMP:20250703T060822Z
URL:http://staged2.pixelweise.xyz/events/stocksport-training-2025-07-31/
SUMMARY:Stocksport-Training
DESCRIPTION:
CATEGORIES:Stocksport
LOCATION:Stocksporthalle\, Schmidhüttenstraße 5\, 3500 Krems an der Donau
 \, Österreich
X-APPLE-STRUCTURED-LOCATION;VALUE=URI;X-ADDRESS=Schmidhüttenstraße 5\, 35
 00 Krems an der Donau\, Österreich;X-APPLE-RADIUS=100;X-TITLE=Stocksporth
 alle:geo:0,0
END:VEVENT
BEGIN:VEVENT
UID:443@staged2.pixelweise.xyz
DTSTART;TZID=Europe/Vienna:20250731T193000
DTEND;TZID=Europe/Vienna:20250731T213000
DTSTAMP:20250703T062054Z
URL:http://staged2.pixelweise.xyz/events/werkskapelle-2025-07-31/
SUMMARY:Werkskapelle
DESCRIPTION:
CATEGORIES:Werkskapelle
LOCATION:Volkshaus Lerchenfeld\, Hofrat-Erben-Straße 1\, 3500 Krems an der
  Donau\, Österreich
X-APPLE-STRUCTURED-LOCATION;VALUE=URI;X-ADDRESS=Hofrat-Erben-Straße 1\, 35
 00 Krems an der Donau\, Österreich;X-APPLE-RADIUS=100;X-TITLE=Volkshaus L
 erchenfeld:geo:0,0
END:VEVENT
BEGIN:VEVENT
UID:323@staged2.pixelweise.xyz
DTSTART;TZID=Europe/Vienna:20250801T160000
DTEND;TZID=Europe/Vienna:20250801T170000
DTSTAMP:20250703T061233Z
URL:http://staged2.pixelweise.xyz/events/tennis-kindertraining-2025-08-01/
SUMMARY:Tennis / Kindertraining
DESCRIPTION:
CATEGORIES:Tennis
LOCATION:WSV Tennisplatz\, Admonterstrasse\, 3500 Krems an der Donau\, Öst
 erreich
X-APPLE-STRUCTURED-LOCATION;VALUE=URI;X-ADDRESS=Admonterstrasse\, 3500 Krem
 s an der Donau\, Österreich;X-APPLE-RADIUS=100;X-TITLE=WSV Tennisplatz:ge
 o:0,0
END:VEVENT
BEGIN:VEVENT
UID:381@staged2.pixelweise.xyz
DTSTART;TZID=Europe/Vienna:20250801T170000
DTEND;TZID=Europe/Vienna:20250801T183000
DTSTAMP:20250703T061413Z
URL:http://staged2.pixelweise.xyz/events/tennis-allgemeines-training-2025-
 08-01/
SUMMARY:Tennis - Allgemeines Training
DESCRIPTION:Anfänger: 17:00 - 17:45 Uhr\nFortgeschrittene: 17:45 - 18:30 U
 hr
CATEGORIES:Tennis
LOCATION:WSV Tennisplatz\, Admonterstrasse\, 3500 Krems an der Donau\, Öst
 erreich
X-APPLE-STRUCTURED-LOCATION;VALUE=URI;X-ADDRESS=Admonterstrasse\, 3500 Krem
 s an der Donau\, Österreich;X-APPLE-RADIUS=100;X-TITLE=WSV Tennisplatz:ge
 o:0,0
END:VEVENT
BEGIN:VEVENT
UID:214@staged2.pixelweise.xyz
DTSTART;TZID=Europe/Vienna:20250805T170000
DTEND;TZID=Europe/Vienna:20250805T190000
DTSTAMP:20250703T060822Z
URL:http://staged2.pixelweise.xyz/events/stocksport-training-2025-08-05/
SUMMARY:Stocksport-Training
DESCRIPTION:
CATEGORIES:Stocksport
LOCATION:Stocksporthalle\, Schmidhüttenstraße 5\, 3500 Krems an der Donau
 \, Österreich
X-APPLE-STRUCTURED-LOCATION;VALUE=URI;X-ADDRESS=Schmidhüttenstraße 5\, 35
 00 Krems an der Donau\, Österreich;X-APPLE-RADIUS=100;X-TITLE=Stocksporth
 alle:geo:0,0
END:VEVENT
BEGIN:VEVENT
UID:136@staged2.pixelweise.xyz
DTSTART;TZID=Europe/Vienna:20250805T190000
DTEND;TZID=Europe/Vienna:20250805T210000
DTSTAMP:20250703T060132Z
URL:http://staged2.pixelweise.xyz/events/go-japanisches-brettspiel-2025-08
 -05/
SUMMARY:Go - japanisches Brettspiel
DESCRIPTION:
CATEGORIES:GO
LOCATION:Volkshaus Krems\, Hofrat-Erben-Straße 1\, 3500 Krems an der Donau
 \, Österreich
X-APPLE-STRUCTURED-LOCATION;VALUE=URI;X-ADDRESS=Hofrat-Erben-Straße 1\, 35
 00 Krems an der Donau\, Österreich;X-APPLE-RADIUS=100;X-TITLE=Volkshaus K
 rems:geo:0,0
END:VEVENT
BEGIN:VEVENT
UID:434@staged2.pixelweise.xyz
DTSTART;TZID=Europe/Vienna;VALUE=DATE:20250807
DTEND;TZID=Europe/Vienna;VALUE=DATE:20250811
DTSTAMP:20250703T061531Z
URL:http://staged2.pixelweise.xyz/events/voest-open-krems/
SUMMARY:Voest Open Krems
DESCRIPTION:
CATEGORIES:Tennis
LOCATION:WSV Tennisplatz\, Admonterstrasse\, 3500 Krems an der Donau\, Öst
 erreich
X-APPLE-STRUCTURED-LOCATION;VALUE=URI;X-ADDRESS=Admonterstrasse\, 3500 Krem
 s an der Donau\, Österreich;X-APPLE-RADIUS=100;X-TITLE=WSV Tennisplatz:ge
 o:0,0
END:VEVENT
BEGIN:VEVENT
UID:215@staged2.pixelweise.xyz
DTSTART;TZID=Europe/Vienna:20250807T170000
DTEND;TZID=Europe/Vienna:20250807T190000
DTSTAMP:20250703T060822Z
URL:http://staged2.pixelweise.xyz/events/stocksport-training-2025-08-07/
SUMMARY:Stocksport-Training
DESCRIPTION:
CATEGORIES:Stocksport
LOCATION:Stocksporthalle\, Schmidhüttenstraße 5\, 3500 Krems an der Donau
 \, Österreich
X-APPLE-STRUCTURED-LOCATION;VALUE=URI;X-ADDRESS=Schmidhüttenstraße 5\, 35
 00 Krems an der Donau\, Österreich;X-APPLE-RADIUS=100;X-TITLE=Stocksporth
 alle:geo:0,0
END:VEVENT
BEGIN:VEVENT
UID:444@staged2.pixelweise.xyz
DTSTART;TZID=Europe/Vienna:20250807T193000
DTEND;TZID=Europe/Vienna:20250807T213000
DTSTAMP:20250703T062054Z
URL:http://staged2.pixelweise.xyz/events/werkskapelle-2025-08-07/
SUMMARY:Werkskapelle
DESCRIPTION:
CATEGORIES:Werkskapelle
LOCATION:Volkshaus Lerchenfeld\, Hofrat-Erben-Straße 1\, 3500 Krems an der
  Donau\, Österreich
X-APPLE-STRUCTURED-LOCATION;VALUE=URI;X-ADDRESS=Hofrat-Erben-Straße 1\, 35
 00 Krems an der Donau\, Österreich;X-APPLE-RADIUS=100;X-TITLE=Volkshaus L
 erchenfeld:geo:0,0
END:VEVENT
BEGIN:VEVENT
UID:324@staged2.pixelweise.xyz
DTSTART;TZID=Europe/Vienna:20250808T160000
DTEND;TZID=Europe/Vienna:20250808T170000
DTSTAMP:20250703T061233Z
URL:http://staged2.pixelweise.xyz/events/tennis-kindertraining-2025-08-08/
SUMMARY:Tennis / Kindertraining
DESCRIPTION:
CATEGORIES:Tennis
LOCATION:WSV Tennisplatz\, Admonterstrasse\, 3500 Krems an der Donau\, Öst
 erreich
X-APPLE-STRUCTURED-LOCATION;VALUE=URI;X-ADDRESS=Admonterstrasse\, 3500 Krem
 s an der Donau\, Österreich;X-APPLE-RADIUS=100;X-TITLE=WSV Tennisplatz:ge
 o:0,0
END:VEVENT
BEGIN:VEVENT
UID:382@staged2.pixelweise.xyz
DTSTART;TZID=Europe/Vienna:20250808T170000
DTEND;TZID=Europe/Vienna:20250808T183000
DTSTAMP:20250703T061413Z
URL:http://staged2.pixelweise.xyz/events/tennis-allgemeines-training-2025-
 08-08/
SUMMARY:Tennis - Allgemeines Training
DESCRIPTION:Anfänger: 17:00 - 17:45 Uhr\nFortgeschrittene: 17:45 - 18:30 U
 hr
CATEGORIES:Tennis
LOCATION:WSV Tennisplatz\, Admonterstrasse\, 3500 Krems an der Donau\, Öst
 erreich
X-APPLE-STRUCTURED-LOCATION;VALUE=URI;X-ADDRESS=Admonterstrasse\, 3500 Krem
 s an der Donau\, Österreich;X-APPLE-RADIUS=100;X-TITLE=WSV Tennisplatz:ge
 o:0,0
END:VEVENT
BEGIN:VEVENT
UID:216@staged2.pixelweise.xyz
DTSTART;TZID=Europe/Vienna:20250812T170000
DTEND;TZID=Europe/Vienna:20250812T190000
DTSTAMP:20250703T060822Z
URL:http://staged2.pixelweise.xyz/events/stocksport-training-2025-08-12/
SUMMARY:Stocksport-Training
DESCRIPTION:
CATEGORIES:Stocksport
LOCATION:Stocksporthalle\, Schmidhüttenstraße 5\, 3500 Krems an der Donau
 \, Österreich
X-APPLE-STRUCTURED-LOCATION;VALUE=URI;X-ADDRESS=Schmidhüttenstraße 5\, 35
 00 Krems an der Donau\, Österreich;X-APPLE-RADIUS=100;X-TITLE=Stocksporth
 alle:geo:0,0
END:VEVENT
BEGIN:VEVENT
UID:217@staged2.pixelweise.xyz
DTSTART;TZID=Europe/Vienna:20250814T170000
DTEND;TZID=Europe/Vienna:20250814T190000
DTSTAMP:20250703T060822Z
URL:http://staged2.pixelweise.xyz/events/stocksport-training-2025-08-14/
SUMMARY:Stocksport-Training
DESCRIPTION:
CATEGORIES:Stocksport
LOCATION:Stocksporthalle\, Schmidhüttenstraße 5\, 3500 Krems an der Donau
 \, Österreich
X-APPLE-STRUCTURED-LOCATION;VALUE=URI;X-ADDRESS=Schmidhüttenstraße 5\, 35
 00 Krems an der Donau\, Österreich;X-APPLE-RADIUS=100;X-TITLE=Stocksporth
 alle:geo:0,0
END:VEVENT
BEGIN:VEVENT
UID:445@staged2.pixelweise.xyz
DTSTART;TZID=Europe/Vienna:20250814T193000
DTEND;TZID=Europe/Vienna:20250814T213000
DTSTAMP:20250703T062054Z
URL:http://staged2.pixelweise.xyz/events/werkskapelle-2025-08-14/
SUMMARY:Werkskapelle
DESCRIPTION:
CATEGORIES:Werkskapelle
LOCATION:Volkshaus Lerchenfeld\, Hofrat-Erben-Straße 1\, 3500 Krems an der
  Donau\, Österreich
X-APPLE-STRUCTURED-LOCATION;VALUE=URI;X-ADDRESS=Hofrat-Erben-Straße 1\, 35
 00 Krems an der Donau\, Österreich;X-APPLE-RADIUS=100;X-TITLE=Volkshaus L
 erchenfeld:geo:0,0
END:VEVENT
BEGIN:VEVENT
UID:325@staged2.pixelweise.xyz
DTSTART;TZID=Europe/Vienna:20250815T160000
DTEND;TZID=Europe/Vienna:20250815T170000
DTSTAMP:20250703T061233Z
URL:http://staged2.pixelweise.xyz/events/tennis-kindertraining-2025-08-15/
SUMMARY:Tennis / Kindertraining
DESCRIPTION:
CATEGORIES:Tennis
LOCATION:WSV Tennisplatz\, Admonterstrasse\, 3500 Krems an der Donau\, Öst
 erreich
X-APPLE-STRUCTURED-LOCATION;VALUE=URI;X-ADDRESS=Admonterstrasse\, 3500 Krem
 s an der Donau\, Österreich;X-APPLE-RADIUS=100;X-TITLE=WSV Tennisplatz:ge
 o:0,0
END:VEVENT
BEGIN:VEVENT
UID:383@staged2.pixelweise.xyz
DTSTART;TZID=Europe/Vienna:20250815T170000
DTEND;TZID=Europe/Vienna:20250815T183000
DTSTAMP:20250703T061413Z
URL:http://staged2.pixelweise.xyz/events/tennis-allgemeines-training-2025-
 08-15/
SUMMARY:Tennis - Allgemeines Training
DESCRIPTION:Anfänger: 17:00 - 17:45 Uhr\nFortgeschrittene: 17:45 - 18:30 U
 hr
CATEGORIES:Tennis
LOCATION:WSV Tennisplatz\, Admonterstrasse\, 3500 Krems an der Donau\, Öst
 erreich
X-APPLE-STRUCTURED-LOCATION;VALUE=URI;X-ADDRESS=Admonterstrasse\, 3500 Krem
 s an der Donau\, Österreich;X-APPLE-RADIUS=100;X-TITLE=WSV Tennisplatz:ge
 o:0,0
END:VEVENT
BEGIN:VEVENT
UID:218@staged2.pixelweise.xyz
DTSTART;TZID=Europe/Vienna:20250819T170000
DTEND;TZID=Europe/Vienna:20250819T190000
DTSTAMP:20250703T060822Z
URL:http://staged2.pixelweise.xyz/events/stocksport-training-2025-08-19/
SUMMARY:Stocksport-Training
DESCRIPTION:
CATEGORIES:Stocksport
LOCATION:Stocksporthalle\, Schmidhüttenstraße 5\, 3500 Krems an der Donau
 \, Österreich
X-APPLE-STRUCTURED-LOCATION;VALUE=URI;X-ADDRESS=Schmidhüttenstraße 5\, 35
 00 Krems an der Donau\, Österreich;X-APPLE-RADIUS=100;X-TITLE=Stocksporth
 alle:geo:0,0
END:VEVENT
BEGIN:VEVENT
UID:138@staged2.pixelweise.xyz
DTSTART;TZID=Europe/Vienna:20250819T190000
DTEND;TZID=Europe/Vienna:20250819T210000
DTSTAMP:20250703T060132Z
URL:http://staged2.pixelweise.xyz/events/go-japanisches-brettspiel-2025-08
 -19/
SUMMARY:Go - japanisches Brettspiel
DESCRIPTION:
CATEGORIES:GO
LOCATION:Volkshaus Krems\, Hofrat-Erben-Straße 1\, 3500 Krems an der Donau
 \, Österreich
X-APPLE-STRUCTURED-LOCATION;VALUE=URI;X-ADDRESS=Hofrat-Erben-Straße 1\, 35
 00 Krems an der Donau\, Österreich;X-APPLE-RADIUS=100;X-TITLE=Volkshaus K
 rems:geo:0,0
END:VEVENT
BEGIN:VTIMEZONE
TZID:Europe/Vienna
X-LIC-LOCATION:Europe/Vienna
BEGIN:DAYLIGHT
DTSTART:20250330T030000
TZOFFSETFROM:+0100
TZOFFSETTO:+0200
TZNAME:CEST
END:DAYLIGHT
END:VTIMEZONE
END:VCALENDAR